BEGIN:VCALENDAR
VERSION:2.0
PRODID:-//Cannon AFB - ECPv6.15.20//NONSGML v1.0//EN
CALSCALE:GREGORIAN
METHOD:PUBLISH
X-WR-CALNAME:Cannon AFB
X-ORIGINAL-URL:https://cannonforce.com
X-WR-CALDESC:Events for Cannon AFB
REFRESH-INTERVAL;VALUE=DURATION:PT1H
X-Robots-Tag:noindex
X-PUBLISHED-TTL:PT1H
BEGIN:VTIMEZONE
TZID:America/Denver
BEGIN:DAYLIGHT
TZOFFSETFROM:-0700
TZOFFSETTO:-0600
TZNAME:MDT
DTSTART:20250309T090000
END:DAYLIGHT
BEGIN:STANDARD
TZOFFSETFROM:-0600
TZOFFSETTO:-0700
TZNAME:MST
DTSTART:20251102T080000
END:STANDARD
BEGIN:DAYLIGHT
TZOFFSETFROM:-0700
TZOFFSETTO:-0600
TZNAME:MDT
DTSTART:20260308T090000
END:DAYLIGHT
BEGIN:STANDARD
TZOFFSETFROM:-0600
TZOFFSETTO:-0700
TZNAME:MST
DTSTART:20261101T080000
END:STANDARD
BEGIN:DAYLIGHT
TZOFFSETFROM:-0700
TZOFFSETTO:-0600
TZNAME:MDT
DTSTART:20270314T090000
END:DAYLIGHT
BEGIN:STANDARD
TZOFFSETFROM:-0600
TZOFFSETTO:-0700
TZNAME:MST
DTSTART:20271107T080000
END:STANDARD
END:VTIMEZONE
BEGIN:VEVENT
DTSTART;TZID=America/Denver:20260427T050000
DTEND;TZID=America/Denver:20260427T050000
DTSTAMP:20260425T074040
CREATED:20260225T152130Z
LAST-MODIFIED:20260225T152130Z
UID:10002834-1777266000-1777266000@cannonforce.com
SUMMARY:Boot Camp
DESCRIPTION:Subject to change. \nFollow Cannon AFB Fitness on FB for updates.
URL:https://cannonforce.com/event/boot-camp/2026-04-27/
LOCATION:Cannon Fitness Center\, 400 Air Commando Way\, Clovis\, NM\, 88101\, United States
ATTACH;FMTTYPE=image/png:https://cannonforce.com/wp-content/uploads/2026/02/Web-Thumbnails-boot-camp.png
END:VEVENT
BEGIN:VEVENT
DTSTART;TZID=America/Denver:20260428T050000
DTEND;TZID=America/Denver:20260428T050000
DTSTAMP:20260425T074040
CREATED:20260225T152130Z
LAST-MODIFIED:20260225T152130Z
UID:10002835-1777352400-1777352400@cannonforce.com
SUMMARY:Boot Camp
DESCRIPTION:Subject to change. \nFollow Cannon AFB Fitness on FB for updates.
URL:https://cannonforce.com/event/boot-camp/2026-04-28/
LOCATION:Cannon Fitness Center\, 400 Air Commando Way\, Clovis\, NM\, 88101\, United States
ATTACH;FMTTYPE=image/png:https://cannonforce.com/wp-content/uploads/2026/02/Web-Thumbnails-boot-camp.png
END:VEVENT
BEGIN:VEVENT
DTSTART;TZID=America/Denver:20260429T050000
DTEND;TZID=America/Denver:20260429T050000
DTSTAMP:20260425T074040
CREATED:20260225T152130Z
LAST-MODIFIED:20260225T152130Z
UID:10002836-1777438800-1777438800@cannonforce.com
SUMMARY:Boot Camp
DESCRIPTION:Subject to change. \nFollow Cannon AFB Fitness on FB for updates.
URL:https://cannonforce.com/event/boot-camp/2026-04-29/
LOCATION:Cannon Fitness Center\, 400 Air Commando Way\, Clovis\, NM\, 88101\, United States
ATTACH;FMTTYPE=image/png:https://cannonforce.com/wp-content/uploads/2026/02/Web-Thumbnails-boot-camp.png
END:VEVENT
BEGIN:VEVENT
DTSTART;TZID=America/Denver:20260430T050000
DTEND;TZID=America/Denver:20260430T050000
DTSTAMP:20260425T074040
CREATED:20260225T152130Z
LAST-MODIFIED:20260225T152130Z
UID:10002837-1777525200-1777525200@cannonforce.com
SUMMARY:Boot Camp
DESCRIPTION:Subject to change. \nFollow Cannon AFB Fitness on FB for updates.
URL:https://cannonforce.com/event/boot-camp/2026-04-30/
LOCATION:Cannon Fitness Center\, 400 Air Commando Way\, Clovis\, NM\, 88101\, United States
ATTACH;FMTTYPE=image/png:https://cannonforce.com/wp-content/uploads/2026/02/Web-Thumbnails-boot-camp.png
END:VEVENT
BEGIN:VEVENT
DTSTART;TZID=America/Denver:20260501T050000
DTEND;TZID=America/Denver:20260501T050000
DTSTAMP:20260425T074040
CREATED:20260225T152130Z
LAST-MODIFIED:20260225T152130Z
UID:10002838-1777611600-1777611600@cannonforce.com
SUMMARY:Boot Camp
DESCRIPTION:Subject to change. \nFollow Cannon AFB Fitness on FB for updates.
URL:https://cannonforce.com/event/boot-camp/2026-05-01/
LOCATION:Cannon Fitness Center\, 400 Air Commando Way\, Clovis\, NM\, 88101\, United States
ATTACH;FMTTYPE=image/png:https://cannonforce.com/wp-content/uploads/2026/02/Web-Thumbnails-boot-camp.png
END:VEVENT
BEGIN:VEVENT
DTSTART;TZID=America/Denver:20260504T050000
DTEND;TZID=America/Denver:20260504T050000
DTSTAMP:20260425T074040
CREATED:20260225T152130Z
LAST-MODIFIED:20260225T152130Z
UID:10002839-1777870800-1777870800@cannonforce.com
SUMMARY:Boot Camp
DESCRIPTION:Subject to change. \nFollow Cannon AFB Fitness on FB for updates.
URL:https://cannonforce.com/event/boot-camp/2026-05-04/
LOCATION:Cannon Fitness Center\, 400 Air Commando Way\, Clovis\, NM\, 88101\, United States
ATTACH;FMTTYPE=image/png:https://cannonforce.com/wp-content/uploads/2026/02/Web-Thumbnails-boot-camp.png
END:VEVENT
BEGIN:VEVENT
DTSTART;TZID=America/Denver:20260505T050000
DTEND;TZID=America/Denver:20260505T050000
DTSTAMP:20260425T074040
CREATED:20260225T152130Z
LAST-MODIFIED:20260225T152130Z
UID:10002840-1777957200-1777957200@cannonforce.com
SUMMARY:Boot Camp
DESCRIPTION:Subject to change. \nFollow Cannon AFB Fitness on FB for updates.
URL:https://cannonforce.com/event/boot-camp/2026-05-05/
LOCATION:Cannon Fitness Center\, 400 Air Commando Way\, Clovis\, NM\, 88101\, United States
ATTACH;FMTTYPE=image/png:https://cannonforce.com/wp-content/uploads/2026/02/Web-Thumbnails-boot-camp.png
END:VEVENT
BEGIN:VEVENT
DTSTART;TZID=America/Denver:20260506T050000
DTEND;TZID=America/Denver:20260506T050000
DTSTAMP:20260425T074040
CREATED:20260225T152130Z
LAST-MODIFIED:20260225T152130Z
UID:10002841-1778043600-1778043600@cannonforce.com
SUMMARY:Boot Camp
DESCRIPTION:Subject to change. \nFollow Cannon AFB Fitness on FB for updates.
URL:https://cannonforce.com/event/boot-camp/2026-05-06/
LOCATION:Cannon Fitness Center\, 400 Air Commando Way\, Clovis\, NM\, 88101\, United States
ATTACH;FMTTYPE=image/png:https://cannonforce.com/wp-content/uploads/2026/02/Web-Thumbnails-boot-camp.png
END:VEVENT
BEGIN:VEVENT
DTSTART;TZID=America/Denver:20260507T050000
DTEND;TZID=America/Denver:20260507T050000
DTSTAMP:20260425T074040
CREATED:20260225T152130Z
LAST-MODIFIED:20260225T152130Z
UID:10002842-1778130000-1778130000@cannonforce.com
SUMMARY:Boot Camp
DESCRIPTION:Subject to change. \nFollow Cannon AFB Fitness on FB for updates.
URL:https://cannonforce.com/event/boot-camp/2026-05-07/
LOCATION:Cannon Fitness Center\, 400 Air Commando Way\, Clovis\, NM\, 88101\, United States
ATTACH;FMTTYPE=image/png:https://cannonforce.com/wp-content/uploads/2026/02/Web-Thumbnails-boot-camp.png
END:VEVENT
BEGIN:VEVENT
DTSTART;TZID=America/Denver:20260508T050000
DTEND;TZID=America/Denver:20260508T050000
DTSTAMP:20260425T074040
CREATED:20260225T152130Z
LAST-MODIFIED:20260225T152130Z
UID:10002843-1778216400-1778216400@cannonforce.com
SUMMARY:Boot Camp
DESCRIPTION:Subject to change. \nFollow Cannon AFB Fitness on FB for updates.
URL:https://cannonforce.com/event/boot-camp/2026-05-08/
LOCATION:Cannon Fitness Center\, 400 Air Commando Way\, Clovis\, NM\, 88101\, United States
ATTACH;FMTTYPE=image/png:https://cannonforce.com/wp-content/uploads/2026/02/Web-Thumbnails-boot-camp.png
END:VEVENT
BEGIN:VEVENT
DTSTART;TZID=America/Denver:20260511T050000
DTEND;TZID=America/Denver:20260511T050000
DTSTAMP:20260425T074040
CREATED:20260225T152130Z
LAST-MODIFIED:20260225T152130Z
UID:10002844-1778475600-1778475600@cannonforce.com
SUMMARY:Boot Camp
DESCRIPTION:Subject to change. \nFollow Cannon AFB Fitness on FB for updates.
URL:https://cannonforce.com/event/boot-camp/2026-05-11/
LOCATION:Cannon Fitness Center\, 400 Air Commando Way\, Clovis\, NM\, 88101\, United States
ATTACH;FMTTYPE=image/png:https://cannonforce.com/wp-content/uploads/2026/02/Web-Thumbnails-boot-camp.png
END:VEVENT
BEGIN:VEVENT
DTSTART;TZID=America/Denver:20260512T050000
DTEND;TZID=America/Denver:20260512T050000
DTSTAMP:20260425T074040
CREATED:20260225T152130Z
LAST-MODIFIED:20260225T152130Z
UID:10002845-1778562000-1778562000@cannonforce.com
SUMMARY:Boot Camp
DESCRIPTION:Subject to change. \nFollow Cannon AFB Fitness on FB for updates.
URL:https://cannonforce.com/event/boot-camp/2026-05-12/
LOCATION:Cannon Fitness Center\, 400 Air Commando Way\, Clovis\, NM\, 88101\, United States
ATTACH;FMTTYPE=image/png:https://cannonforce.com/wp-content/uploads/2026/02/Web-Thumbnails-boot-camp.png
END:VEVENT
BEGIN:VEVENT
DTSTART;TZID=America/Denver:20260513T050000
DTEND;TZID=America/Denver:20260513T050000
DTSTAMP:20260425T074040
CREATED:20260225T152130Z
LAST-MODIFIED:20260225T152130Z
UID:10002846-1778648400-1778648400@cannonforce.com
SUMMARY:Boot Camp
DESCRIPTION:Subject to change. \nFollow Cannon AFB Fitness on FB for updates.
URL:https://cannonforce.com/event/boot-camp/2026-05-13/
LOCATION:Cannon Fitness Center\, 400 Air Commando Way\, Clovis\, NM\, 88101\, United States
ATTACH;FMTTYPE=image/png:https://cannonforce.com/wp-content/uploads/2026/02/Web-Thumbnails-boot-camp.png
END:VEVENT
BEGIN:VEVENT
DTSTART;TZID=America/Denver:20260514T050000
DTEND;TZID=America/Denver:20260514T050000
DTSTAMP:20260425T074040
CREATED:20260225T152130Z
LAST-MODIFIED:20260225T152130Z
UID:10002847-1778734800-1778734800@cannonforce.com
SUMMARY:Boot Camp
DESCRIPTION:Subject to change. \nFollow Cannon AFB Fitness on FB for updates.
URL:https://cannonforce.com/event/boot-camp/2026-05-14/
LOCATION:Cannon Fitness Center\, 400 Air Commando Way\, Clovis\, NM\, 88101\, United States
ATTACH;FMTTYPE=image/png:https://cannonforce.com/wp-content/uploads/2026/02/Web-Thumbnails-boot-camp.png
END:VEVENT
BEGIN:VEVENT
DTSTART;TZID=America/Denver:20260515T050000
DTEND;TZID=America/Denver:20260515T050000
DTSTAMP:20260425T074040
CREATED:20260225T152130Z
LAST-MODIFIED:20260225T152130Z
UID:10002848-1778821200-1778821200@cannonforce.com
SUMMARY:Boot Camp
DESCRIPTION:Subject to change. \nFollow Cannon AFB Fitness on FB for updates.
URL:https://cannonforce.com/event/boot-camp/2026-05-15/
LOCATION:Cannon Fitness Center\, 400 Air Commando Way\, Clovis\, NM\, 88101\, United States
ATTACH;FMTTYPE=image/png:https://cannonforce.com/wp-content/uploads/2026/02/Web-Thumbnails-boot-camp.png
END:VEVENT
BEGIN:VEVENT
DTSTART;TZID=America/Denver:20260518T050000
DTEND;TZID=America/Denver:20260518T050000
DTSTAMP:20260425T074040
CREATED:20260225T152130Z
LAST-MODIFIED:20260225T152130Z
UID:10002849-1779080400-1779080400@cannonforce.com
SUMMARY:Boot Camp
DESCRIPTION:Subject to change. \nFollow Cannon AFB Fitness on FB for updates.
URL:https://cannonforce.com/event/boot-camp/2026-05-18/
LOCATION:Cannon Fitness Center\, 400 Air Commando Way\, Clovis\, NM\, 88101\, United States
ATTACH;FMTTYPE=image/png:https://cannonforce.com/wp-content/uploads/2026/02/Web-Thumbnails-boot-camp.png
END:VEVENT
BEGIN:VEVENT
DTSTART;TZID=America/Denver:20260519T050000
DTEND;TZID=America/Denver:20260519T050000
DTSTAMP:20260425T074040
CREATED:20260225T152130Z
LAST-MODIFIED:20260225T152130Z
UID:10002850-1779166800-1779166800@cannonforce.com
SUMMARY:Boot Camp
DESCRIPTION:Subject to change. \nFollow Cannon AFB Fitness on FB for updates.
URL:https://cannonforce.com/event/boot-camp/2026-05-19/
LOCATION:Cannon Fitness Center\, 400 Air Commando Way\, Clovis\, NM\, 88101\, United States
ATTACH;FMTTYPE=image/png:https://cannonforce.com/wp-content/uploads/2026/02/Web-Thumbnails-boot-camp.png
END:VEVENT
BEGIN:VEVENT
DTSTART;TZID=America/Denver:20260520T050000
DTEND;TZID=America/Denver:20260520T050000
DTSTAMP:20260425T074040
CREATED:20260225T152130Z
LAST-MODIFIED:20260225T152130Z
UID:10002851-1779253200-1779253200@cannonforce.com
SUMMARY:Boot Camp
DESCRIPTION:Subject to change. \nFollow Cannon AFB Fitness on FB for updates.
URL:https://cannonforce.com/event/boot-camp/2026-05-20/
LOCATION:Cannon Fitness Center\, 400 Air Commando Way\, Clovis\, NM\, 88101\, United States
ATTACH;FMTTYPE=image/png:https://cannonforce.com/wp-content/uploads/2026/02/Web-Thumbnails-boot-camp.png
END:VEVENT
BEGIN:VEVENT
DTSTART;TZID=America/Denver:20260521T050000
DTEND;TZID=America/Denver:20260521T050000
DTSTAMP:20260425T074040
CREATED:20260225T152130Z
LAST-MODIFIED:20260225T152130Z
UID:10002852-1779339600-1779339600@cannonforce.com
SUMMARY:Boot Camp
DESCRIPTION:Subject to change. \nFollow Cannon AFB Fitness on FB for updates.
URL:https://cannonforce.com/event/boot-camp/2026-05-21/
LOCATION:Cannon Fitness Center\, 400 Air Commando Way\, Clovis\, NM\, 88101\, United States
ATTACH;FMTTYPE=image/png:https://cannonforce.com/wp-content/uploads/2026/02/Web-Thumbnails-boot-camp.png
END:VEVENT
BEGIN:VEVENT
DTSTART;TZID=America/Denver:20260522T050000
DTEND;TZID=America/Denver:20260522T050000
DTSTAMP:20260425T074040
CREATED:20260225T152130Z
LAST-MODIFIED:20260225T152130Z
UID:10002853-1779426000-1779426000@cannonforce.com
SUMMARY:Boot Camp
DESCRIPTION:Subject to change. \nFollow Cannon AFB Fitness on FB for updates.
URL:https://cannonforce.com/event/boot-camp/2026-05-22/
LOCATION:Cannon Fitness Center\, 400 Air Commando Way\, Clovis\, NM\, 88101\, United States
ATTACH;FMTTYPE=image/png:https://cannonforce.com/wp-content/uploads/2026/02/Web-Thumbnails-boot-camp.png
END:VEVENT
BEGIN:VEVENT
DTSTART;TZID=America/Denver:20260525T050000
DTEND;TZID=America/Denver:20260525T050000
DTSTAMP:20260425T074040
CREATED:20260225T152130Z
LAST-MODIFIED:20260225T152130Z
UID:10002854-1779685200-1779685200@cannonforce.com
SUMMARY:Boot Camp
DESCRIPTION:Subject to change. \nFollow Cannon AFB Fitness on FB for updates.
URL:https://cannonforce.com/event/boot-camp/2026-05-25/
LOCATION:Cannon Fitness Center\, 400 Air Commando Way\, Clovis\, NM\, 88101\, United States
ATTACH;FMTTYPE=image/png:https://cannonforce.com/wp-content/uploads/2026/02/Web-Thumbnails-boot-camp.png
END:VEVENT
BEGIN:VEVENT
DTSTART;TZID=America/Denver:20260526T050000
DTEND;TZID=America/Denver:20260526T050000
DTSTAMP:20260425T074040
CREATED:20260225T152130Z
LAST-MODIFIED:20260225T152130Z
UID:10002855-1779771600-1779771600@cannonforce.com
SUMMARY:Boot Camp
DESCRIPTION:Subject to change. \nFollow Cannon AFB Fitness on FB for updates.
URL:https://cannonforce.com/event/boot-camp/2026-05-26/
LOCATION:Cannon Fitness Center\, 400 Air Commando Way\, Clovis\, NM\, 88101\, United States
ATTACH;FMTTYPE=image/png:https://cannonforce.com/wp-content/uploads/2026/02/Web-Thumbnails-boot-camp.png
END:VEVENT
BEGIN:VEVENT
DTSTART;TZID=America/Denver:20260527T050000
DTEND;TZID=America/Denver:20260527T050000
DTSTAMP:20260425T074040
CREATED:20260225T152130Z
LAST-MODIFIED:20260225T152130Z
UID:10002856-1779858000-1779858000@cannonforce.com
SUMMARY:Boot Camp
DESCRIPTION:Subject to change. \nFollow Cannon AFB Fitness on FB for updates.
URL:https://cannonforce.com/event/boot-camp/2026-05-27/
LOCATION:Cannon Fitness Center\, 400 Air Commando Way\, Clovis\, NM\, 88101\, United States
ATTACH;FMTTYPE=image/png:https://cannonforce.com/wp-content/uploads/2026/02/Web-Thumbnails-boot-camp.png
END:VEVENT
BEGIN:VEVENT
DTSTART;TZID=America/Denver:20260528T050000
DTEND;TZID=America/Denver:20260528T050000
DTSTAMP:20260425T074040
CREATED:20260225T152130Z
LAST-MODIFIED:20260225T152130Z
UID:10002857-1779944400-1779944400@cannonforce.com
SUMMARY:Boot Camp
DESCRIPTION:Subject to change. \nFollow Cannon AFB Fitness on FB for updates.
URL:https://cannonforce.com/event/boot-camp/2026-05-28/
LOCATION:Cannon Fitness Center\, 400 Air Commando Way\, Clovis\, NM\, 88101\, United States
ATTACH;FMTTYPE=image/png:https://cannonforce.com/wp-content/uploads/2026/02/Web-Thumbnails-boot-camp.png
END:VEVENT
BEGIN:VEVENT
DTSTART;TZID=America/Denver:20260529T050000
DTEND;TZID=America/Denver:20260529T050000
DTSTAMP:20260425T074040
CREATED:20260225T152130Z
LAST-MODIFIED:20260225T152130Z
UID:10002858-1780030800-1780030800@cannonforce.com
SUMMARY:Boot Camp
DESCRIPTION:Subject to change. \nFollow Cannon AFB Fitness on FB for updates.
URL:https://cannonforce.com/event/boot-camp/2026-05-29/
LOCATION:Cannon Fitness Center\, 400 Air Commando Way\, Clovis\, NM\, 88101\, United States
ATTACH;FMTTYPE=image/png:https://cannonforce.com/wp-content/uploads/2026/02/Web-Thumbnails-boot-camp.png
END:VEVENT
BEGIN:VEVENT
DTSTART;TZID=America/Denver:20260601T050000
DTEND;TZID=America/Denver:20260601T050000
DTSTAMP:20260425T074040
CREATED:20260225T152130Z
LAST-MODIFIED:20260225T152130Z
UID:10002859-1780290000-1780290000@cannonforce.com
SUMMARY:Boot Camp
DESCRIPTION:Subject to change. \nFollow Cannon AFB Fitness on FB for updates.
URL:https://cannonforce.com/event/boot-camp/2026-06-01/
LOCATION:Cannon Fitness Center\, 400 Air Commando Way\, Clovis\, NM\, 88101\, United States
ATTACH;FMTTYPE=image/png:https://cannonforce.com/wp-content/uploads/2026/02/Web-Thumbnails-boot-camp.png
END:VEVENT
BEGIN:VEVENT
DTSTART;TZID=America/Denver:20260602T050000
DTEND;TZID=America/Denver:20260602T050000
DTSTAMP:20260425T074040
CREATED:20260225T152130Z
LAST-MODIFIED:20260225T152130Z
UID:10002860-1780376400-1780376400@cannonforce.com
SUMMARY:Boot Camp
DESCRIPTION:Subject to change. \nFollow Cannon AFB Fitness on FB for updates.
URL:https://cannonforce.com/event/boot-camp/2026-06-02/
LOCATION:Cannon Fitness Center\, 400 Air Commando Way\, Clovis\, NM\, 88101\, United States
ATTACH;FMTTYPE=image/png:https://cannonforce.com/wp-content/uploads/2026/02/Web-Thumbnails-boot-camp.png
END:VEVENT
BEGIN:VEVENT
DTSTART;TZID=America/Denver:20260603T050000
DTEND;TZID=America/Denver:20260603T050000
DTSTAMP:20260425T074040
CREATED:20260225T152130Z
LAST-MODIFIED:20260225T152130Z
UID:10002861-1780462800-1780462800@cannonforce.com
SUMMARY:Boot Camp
DESCRIPTION:Subject to change. \nFollow Cannon AFB Fitness on FB for updates.
URL:https://cannonforce.com/event/boot-camp/2026-06-03/
LOCATION:Cannon Fitness Center\, 400 Air Commando Way\, Clovis\, NM\, 88101\, United States
ATTACH;FMTTYPE=image/png:https://cannonforce.com/wp-content/uploads/2026/02/Web-Thumbnails-boot-camp.png
END:VEVENT
BEGIN:VEVENT
DTSTART;TZID=America/Denver:20260604T050000
DTEND;TZID=America/Denver:20260604T050000
DTSTAMP:20260425T074040
CREATED:20260225T152130Z
LAST-MODIFIED:20260225T152130Z
UID:10002862-1780549200-1780549200@cannonforce.com
SUMMARY:Boot Camp
DESCRIPTION:Subject to change. \nFollow Cannon AFB Fitness on FB for updates.
URL:https://cannonforce.com/event/boot-camp/2026-06-04/
LOCATION:Cannon Fitness Center\, 400 Air Commando Way\, Clovis\, NM\, 88101\, United States
ATTACH;FMTTYPE=image/png:https://cannonforce.com/wp-content/uploads/2026/02/Web-Thumbnails-boot-camp.png
END:VEVENT
BEGIN:VEVENT
DTSTART;TZID=America/Denver:20260605T050000
DTEND;TZID=America/Denver:20260605T050000
DTSTAMP:20260425T074040
CREATED:20260225T152130Z
LAST-MODIFIED:20260225T152130Z
UID:10002863-1780635600-1780635600@cannonforce.com
SUMMARY:Boot Camp
DESCRIPTION:Subject to change. \nFollow Cannon AFB Fitness on FB for updates.
URL:https://cannonforce.com/event/boot-camp/2026-06-05/
LOCATION:Cannon Fitness Center\, 400 Air Commando Way\, Clovis\, NM\, 88101\, United States
ATTACH;FMTTYPE=image/png:https://cannonforce.com/wp-content/uploads/2026/02/Web-Thumbnails-boot-camp.png
END:VEVENT
END:VCALENDAR