BEGIN:VCALENDAR
VERSION:2.0
PRODID:-//Cannon AFB - ECPv6.15.20//NONSGML v1.0//EN
CALSCALE:GREGORIAN
METHOD:PUBLISH
X-WR-CALNAME:Cannon AFB
X-ORIGINAL-URL:https://cannonforce.com
X-WR-CALDESC:Events for Cannon AFB
REFRESH-INTERVAL;VALUE=DURATION:PT1H
X-Robots-Tag:noindex
X-PUBLISHED-TTL:PT1H
BEGIN:VTIMEZONE
TZID:America/Denver
BEGIN:DAYLIGHT
TZOFFSETFROM:-0700
TZOFFSETTO:-0600
TZNAME:MDT
DTSTART:20250309T090000
END:DAYLIGHT
BEGIN:STANDARD
TZOFFSETFROM:-0600
TZOFFSETTO:-0700
TZNAME:MST
DTSTART:20251102T080000
END:STANDARD
BEGIN:DAYLIGHT
TZOFFSETFROM:-0700
TZOFFSETTO:-0600
TZNAME:MDT
DTSTART:20260308T090000
END:DAYLIGHT
BEGIN:STANDARD
TZOFFSETFROM:-0600
TZOFFSETTO:-0700
TZNAME:MST
DTSTART:20261101T080000
END:STANDARD
BEGIN:DAYLIGHT
TZOFFSETFROM:-0700
TZOFFSETTO:-0600
TZNAME:MDT
DTSTART:20270314T090000
END:DAYLIGHT
BEGIN:STANDARD
TZOFFSETFROM:-0600
TZOFFSETTO:-0700
TZNAME:MST
DTSTART:20271107T080000
END:STANDARD
END:VTIMEZONE
BEGIN:VEVENT
DTSTART;TZID=America/Denver:20260530T110000
DTEND;TZID=America/Denver:20260530T130000
DTSTAMP:20260425T101451
CREATED:20260114T184250Z
LAST-MODIFIED:20260310T162219Z
UID:10002684-1780138800-1780146000@cannonforce.com
SUMMARY:Pokémon Club
DESCRIPTION:Catch the fun at our Pokémon Club! Each month brings something new – some months we’ll learn how to play and improve our TCG skills\, while others will feature themed crafts\, casual play\, or special activities – making it a fun and welcoming space for beginners and experienced players alike. Recommended for ages 8-14. \n  \nMust have base access.
URL:https://cannonforce.com/event/pokemon-club/2026-05-30/
LOCATION:Cannon Library\, 107 Albright Ave
CATEGORIES:Family,Library
ATTACH;FMTTYPE=image/png:https://cannonforce.com/wp-content/uploads/2026/01/Web-Thumbnails-pokemon-club.png
END:VEVENT
BEGIN:VEVENT
DTSTART;TZID=America/Denver:20260627T110000
DTEND;TZID=America/Denver:20260627T130000
DTSTAMP:20260425T101451
CREATED:20260114T184250Z
LAST-MODIFIED:20260310T162219Z
UID:10003555-1782558000-1782565200@cannonforce.com
SUMMARY:Pokémon Club
DESCRIPTION:Catch the fun at our Pokémon Club! Each month brings something new – some months we’ll learn how to play and improve our TCG skills\, while others will feature themed crafts\, casual play\, or special activities – making it a fun and welcoming space for beginners and experienced players alike. Recommended for ages 8-14. \n  \nMust have base access.
URL:https://cannonforce.com/event/pokemon-club/2026-06-27/
LOCATION:Cannon Library\, 107 Albright Ave
CATEGORIES:Family,Library
ATTACH;FMTTYPE=image/png:https://cannonforce.com/wp-content/uploads/2026/01/Web-Thumbnails-pokemon-club.png
END:VEVENT
END:VCALENDAR