BEGIN:VCALENDAR
VERSION:2.0
PRODID:-//Cannon AFB - ECPv6.15.20//NONSGML v1.0//EN
CALSCALE:GREGORIAN
METHOD:PUBLISH
X-WR-CALNAME:Cannon AFB
X-ORIGINAL-URL:https://cannonforce.com
X-WR-CALDESC:Events for Cannon AFB
REFRESH-INTERVAL;VALUE=DURATION:PT1H
X-Robots-Tag:noindex
X-PUBLISHED-TTL:PT1H
BEGIN:VTIMEZONE
TZID:America/Denver
BEGIN:DAYLIGHT
TZOFFSETFROM:-0700
TZOFFSETTO:-0600
TZNAME:MDT
DTSTART:20250309T090000
END:DAYLIGHT
BEGIN:STANDARD
TZOFFSETFROM:-0600
TZOFFSETTO:-0700
TZNAME:MST
DTSTART:20251102T080000
END:STANDARD
BEGIN:DAYLIGHT
TZOFFSETFROM:-0700
TZOFFSETTO:-0600
TZNAME:MDT
DTSTART:20260308T090000
END:DAYLIGHT
BEGIN:STANDARD
TZOFFSETFROM:-0600
TZOFFSETTO:-0700
TZNAME:MST
DTSTART:20261101T080000
END:STANDARD
BEGIN:DAYLIGHT
TZOFFSETFROM:-0700
TZOFFSETTO:-0600
TZNAME:MDT
DTSTART:20270314T090000
END:DAYLIGHT
BEGIN:STANDARD
TZOFFSETFROM:-0600
TZOFFSETTO:-0700
TZNAME:MST
DTSTART:20271107T080000
END:STANDARD
END:VTIMEZONE
BEGIN:VEVENT
DTSTART;TZID=America/Denver:20260515T170000
DTEND;TZID=America/Denver:20260515T200000
DTSTAMP:20260424T024502
CREATED:20251219T211809Z
LAST-MODIFIED:20260311T150443Z
UID:10002524-1778864400-1778875200@cannonforce.com
SUMMARY:Jackpot Bingo
DESCRIPTION:Join us for an exciting night of Bingo filled with great prizes\, food\, and fun. The event will be held in the Landing Zone Tri-Rooms and is open to 75–100 players. \nFood will be available for purchase from 5:30 PM to 8:00 PM\, so come hungry and make a night of it. \nBingo cards will go on sale from 5:00 PM to 6:00 PM. The evening will kick off at 6:00 PM with introductions and rules\, followed by nonstop Bingo action until 9:00 PM. \nThe cost per person covers 10 games. Club members play for $25\, while non-members play for $30. Daubers will be available for purchase for $3 each\, and extra jackpot cards may be purchased for $2 each. \nBecome a club member today! -> https://cannonforce.com/club-membership/ \nPlease note that there are no sleepers allowed. Bingo must be called before the next number is announced. \nPayouts get bigger as the night goes on. Game payouts range from $50 in the early rounds to $200 in Game 9. Game 10 features a $500 progressive Bingo\, with the payout subject to change. \nIf the progressive jackpot is not won\, it will roll over by $250 and add five additional numbers each month. If the jackpot is won\, a brand-new progressive game will begin.
URL:https://cannonforce.com/event/jackpot-bingo/2026-05-15/
CATEGORIES:Cannon Landing Zone,Family,Food,Fun
ATTACH;FMTTYPE=image/jpeg:https://cannonforce.com/wp-content/uploads/2024/10/GettyImages-1205079090-2048x1365-1-1.jpg
END:VEVENT
BEGIN:VEVENT
DTSTART;TZID=America/Denver:20260612T170000
DTEND;TZID=America/Denver:20260612T200000
DTSTAMP:20260424T024502
CREATED:20251219T211809Z
LAST-MODIFIED:20260311T150443Z
UID:10003572-1781283600-1781294400@cannonforce.com
SUMMARY:Jackpot Bingo
DESCRIPTION:Join us for an exciting night of Bingo filled with great prizes\, food\, and fun. The event will be held in the Landing Zone Tri-Rooms and is open to 75–100 players. \nFood will be available for purchase from 5:30 PM to 8:00 PM\, so come hungry and make a night of it. \nBingo cards will go on sale from 5:00 PM to 6:00 PM. The evening will kick off at 6:00 PM with introductions and rules\, followed by nonstop Bingo action until 9:00 PM. \nThe cost per person covers 10 games. Club members play for $25\, while non-members play for $30. Daubers will be available for purchase for $3 each\, and extra jackpot cards may be purchased for $2 each. \nBecome a club member today! -> https://cannonforce.com/club-membership/ \nPlease note that there are no sleepers allowed. Bingo must be called before the next number is announced. \nPayouts get bigger as the night goes on. Game payouts range from $50 in the early rounds to $200 in Game 9. Game 10 features a $500 progressive Bingo\, with the payout subject to change. \nIf the progressive jackpot is not won\, it will roll over by $250 and add five additional numbers each month. If the jackpot is won\, a brand-new progressive game will begin.
URL:https://cannonforce.com/event/jackpot-bingo/2026-06-12/
CATEGORIES:Cannon Landing Zone,Family,Food,Fun
ATTACH;FMTTYPE=image/jpeg:https://cannonforce.com/wp-content/uploads/2024/10/GettyImages-1205079090-2048x1365-1-1.jpg
END:VEVENT
BEGIN:VEVENT
DTSTART;TZID=America/Denver:20260821T170000
DTEND;TZID=America/Denver:20260821T200000
DTSTAMP:20260424T024502
CREATED:20251219T211809Z
LAST-MODIFIED:20260311T150443Z
UID:10002525-1787331600-1787342400@cannonforce.com
SUMMARY:Jackpot Bingo
DESCRIPTION:Join us for an exciting night of Bingo filled with great prizes\, food\, and fun. The event will be held in the Landing Zone Tri-Rooms and is open to 75–100 players. \nFood will be available for purchase from 5:30 PM to 8:00 PM\, so come hungry and make a night of it. \nBingo cards will go on sale from 5:00 PM to 6:00 PM. The evening will kick off at 6:00 PM with introductions and rules\, followed by nonstop Bingo action until 9:00 PM. \nThe cost per person covers 10 games. Club members play for $25\, while non-members play for $30. Daubers will be available for purchase for $3 each\, and extra jackpot cards may be purchased for $2 each. \nBecome a club member today! -> https://cannonforce.com/club-membership/ \nPlease note that there are no sleepers allowed. Bingo must be called before the next number is announced. \nPayouts get bigger as the night goes on. Game payouts range from $50 in the early rounds to $200 in Game 9. Game 10 features a $500 progressive Bingo\, with the payout subject to change. \nIf the progressive jackpot is not won\, it will roll over by $250 and add five additional numbers each month. If the jackpot is won\, a brand-new progressive game will begin.
URL:https://cannonforce.com/event/jackpot-bingo/2026-08-21/
CATEGORIES:Cannon Landing Zone,Family,Food,Fun
ATTACH;FMTTYPE=image/jpeg:https://cannonforce.com/wp-content/uploads/2024/10/GettyImages-1205079090-2048x1365-1-1.jpg
END:VEVENT
BEGIN:VEVENT
DTSTART;TZID=America/Denver:20260918T170000
DTEND;TZID=America/Denver:20260918T200000
DTSTAMP:20260424T024502
CREATED:20251219T211809Z
LAST-MODIFIED:20260311T150443Z
UID:10002526-1789750800-1789761600@cannonforce.com
SUMMARY:Jackpot Bingo
DESCRIPTION:Join us for an exciting night of Bingo filled with great prizes\, food\, and fun. The event will be held in the Landing Zone Tri-Rooms and is open to 75–100 players. \nFood will be available for purchase from 5:30 PM to 8:00 PM\, so come hungry and make a night of it. \nBingo cards will go on sale from 5:00 PM to 6:00 PM. The evening will kick off at 6:00 PM with introductions and rules\, followed by nonstop Bingo action until 9:00 PM. \nThe cost per person covers 10 games. Club members play for $25\, while non-members play for $30. Daubers will be available for purchase for $3 each\, and extra jackpot cards may be purchased for $2 each. \nBecome a club member today! -> https://cannonforce.com/club-membership/ \nPlease note that there are no sleepers allowed. Bingo must be called before the next number is announced. \nPayouts get bigger as the night goes on. Game payouts range from $50 in the early rounds to $200 in Game 9. Game 10 features a $500 progressive Bingo\, with the payout subject to change. \nIf the progressive jackpot is not won\, it will roll over by $250 and add five additional numbers each month. If the jackpot is won\, a brand-new progressive game will begin.
URL:https://cannonforce.com/event/jackpot-bingo/2026-09-18/
CATEGORIES:Cannon Landing Zone,Family,Food,Fun
ATTACH;FMTTYPE=image/jpeg:https://cannonforce.com/wp-content/uploads/2024/10/GettyImages-1205079090-2048x1365-1-1.jpg
END:VEVENT
BEGIN:VEVENT
DTSTART;TZID=America/Denver:20261016T170000
DTEND;TZID=America/Denver:20261016T200000
DTSTAMP:20260424T024502
CREATED:20251219T211809Z
LAST-MODIFIED:20260311T150443Z
UID:10002527-1792170000-1792180800@cannonforce.com
SUMMARY:Jackpot Bingo
DESCRIPTION:Join us for an exciting night of Bingo filled with great prizes\, food\, and fun. The event will be held in the Landing Zone Tri-Rooms and is open to 75–100 players. \nFood will be available for purchase from 5:30 PM to 8:00 PM\, so come hungry and make a night of it. \nBingo cards will go on sale from 5:00 PM to 6:00 PM. The evening will kick off at 6:00 PM with introductions and rules\, followed by nonstop Bingo action until 9:00 PM. \nThe cost per person covers 10 games. Club members play for $25\, while non-members play for $30. Daubers will be available for purchase for $3 each\, and extra jackpot cards may be purchased for $2 each. \nBecome a club member today! -> https://cannonforce.com/club-membership/ \nPlease note that there are no sleepers allowed. Bingo must be called before the next number is announced. \nPayouts get bigger as the night goes on. Game payouts range from $50 in the early rounds to $200 in Game 9. Game 10 features a $500 progressive Bingo\, with the payout subject to change. \nIf the progressive jackpot is not won\, it will roll over by $250 and add five additional numbers each month. If the jackpot is won\, a brand-new progressive game will begin.
URL:https://cannonforce.com/event/jackpot-bingo/2026-10-16/
CATEGORIES:Cannon Landing Zone,Family,Food,Fun
ATTACH;FMTTYPE=image/jpeg:https://cannonforce.com/wp-content/uploads/2024/10/GettyImages-1205079090-2048x1365-1-1.jpg
END:VEVENT
BEGIN:VEVENT
DTSTART;TZID=America/Denver:20261120T170000
DTEND;TZID=America/Denver:20261120T200000
DTSTAMP:20260424T024502
CREATED:20251219T211809Z
LAST-MODIFIED:20260311T150443Z
UID:10002528-1795194000-1795204800@cannonforce.com
SUMMARY:Jackpot Bingo
DESCRIPTION:Join us for an exciting night of Bingo filled with great prizes\, food\, and fun. The event will be held in the Landing Zone Tri-Rooms and is open to 75–100 players. \nFood will be available for purchase from 5:30 PM to 8:00 PM\, so come hungry and make a night of it. \nBingo cards will go on sale from 5:00 PM to 6:00 PM. The evening will kick off at 6:00 PM with introductions and rules\, followed by nonstop Bingo action until 9:00 PM. \nThe cost per person covers 10 games. Club members play for $25\, while non-members play for $30. Daubers will be available for purchase for $3 each\, and extra jackpot cards may be purchased for $2 each. \nBecome a club member today! -> https://cannonforce.com/club-membership/ \nPlease note that there are no sleepers allowed. Bingo must be called before the next number is announced. \nPayouts get bigger as the night goes on. Game payouts range from $50 in the early rounds to $200 in Game 9. Game 10 features a $500 progressive Bingo\, with the payout subject to change. \nIf the progressive jackpot is not won\, it will roll over by $250 and add five additional numbers each month. If the jackpot is won\, a brand-new progressive game will begin.
URL:https://cannonforce.com/event/jackpot-bingo/2026-11-20/
CATEGORIES:Cannon Landing Zone,Family,Food,Fun
ATTACH;FMTTYPE=image/jpeg:https://cannonforce.com/wp-content/uploads/2024/10/GettyImages-1205079090-2048x1365-1-1.jpg
END:VEVENT
END:VCALENDAR