BEGIN:VCALENDAR
VERSION:2.0
PRODID:-//Cannon AFB - ECPv6.15.20//NONSGML v1.0//EN
CALSCALE:GREGORIAN
METHOD:PUBLISH
X-WR-CALNAME:Cannon AFB
X-ORIGINAL-URL:https://cannonforce.com
X-WR-CALDESC:Events for Cannon AFB
REFRESH-INTERVAL;VALUE=DURATION:PT1H
X-Robots-Tag:noindex
X-PUBLISHED-TTL:PT1H
BEGIN:VTIMEZONE
TZID:America/Denver
BEGIN:DAYLIGHT
TZOFFSETFROM:-0700
TZOFFSETTO:-0600
TZNAME:MDT
DTSTART:20250309T090000
END:DAYLIGHT
BEGIN:STANDARD
TZOFFSETFROM:-0600
TZOFFSETTO:-0700
TZNAME:MST
DTSTART:20251102T080000
END:STANDARD
BEGIN:DAYLIGHT
TZOFFSETFROM:-0700
TZOFFSETTO:-0600
TZNAME:MDT
DTSTART:20260308T090000
END:DAYLIGHT
BEGIN:STANDARD
TZOFFSETFROM:-0600
TZOFFSETTO:-0700
TZNAME:MST
DTSTART:20261101T080000
END:STANDARD
BEGIN:DAYLIGHT
TZOFFSETFROM:-0700
TZOFFSETTO:-0600
TZNAME:MDT
DTSTART:20270314T090000
END:DAYLIGHT
BEGIN:STANDARD
TZOFFSETFROM:-0600
TZOFFSETTO:-0700
TZNAME:MST
DTSTART:20271107T080000
END:STANDARD
BEGIN:DAYLIGHT
TZOFFSETFROM:-0700
TZOFFSETTO:-0600
TZNAME:MDT
DTSTART:20280312T090000
END:DAYLIGHT
BEGIN:STANDARD
TZOFFSETFROM:-0600
TZOFFSETTO:-0700
TZNAME:MST
DTSTART:20281105T080000
END:STANDARD
END:VTIMEZONE
BEGIN:VEVENT
DTSTART;TZID=America/Denver:20260528T170000
DTEND;TZID=America/Denver:20260528T193000
DTSTAMP:20260423T233341
CREATED:20260423T161020Z
LAST-MODIFIED:20260423T161020Z
UID:10003601-1779987600-1779996600@cannonforce.com
SUMMARY:Trivia at the TSL!
DESCRIPTION:Trivium Trivia at TSL | Thursday\, 5 PM – 7:30 PM  –  \nANIME EDITION \nAnime themed trivia and ramen bowl dinner special! ESM Accepted \nMust have base access.
URL:https://cannonforce.com/event/trivia-at-the-tsl-2-2/2026-05-28/
LOCATION:Tailgate Sports Lounge\, 108 Cunningham Ave Cannon AFB\, New Mexico 88103 United States
CATEGORIES:Food,Fun,Tailgate Sports Lounge
ATTACH;FMTTYPE=image/png:https://cannonforce.com/wp-content/uploads/2025/09/Web-Thumbnails-TSL-Trivia.png
END:VEVENT
BEGIN:VEVENT
DTSTART;TZID=America/Denver:20260625T170000
DTEND;TZID=America/Denver:20260625T193000
DTSTAMP:20260423T233341
CREATED:20260423T161020Z
LAST-MODIFIED:20260423T161020Z
UID:10003602-1782406800-1782415800@cannonforce.com
SUMMARY:Trivia at the TSL!
DESCRIPTION:Trivium Trivia at TSL | Thursday\, 5 PM – 7:30 PM  –  \nANIME EDITION \nAnime themed trivia and ramen bowl dinner special! ESM Accepted \nMust have base access.
URL:https://cannonforce.com/event/trivia-at-the-tsl-2-2/2026-06-25/
LOCATION:Tailgate Sports Lounge\, 108 Cunningham Ave Cannon AFB\, New Mexico 88103 United States
CATEGORIES:Food,Fun,Tailgate Sports Lounge
ATTACH;FMTTYPE=image/png:https://cannonforce.com/wp-content/uploads/2025/09/Web-Thumbnails-TSL-Trivia.png
END:VEVENT
BEGIN:VEVENT
DTSTART;TZID=America/Denver:20260723T170000
DTEND;TZID=America/Denver:20260723T193000
DTSTAMP:20260423T233341
CREATED:20260423T161020Z
LAST-MODIFIED:20260423T161020Z
UID:10003603-1784826000-1784835000@cannonforce.com
SUMMARY:Trivia at the TSL!
DESCRIPTION:Trivium Trivia at TSL | Thursday\, 5 PM – 7:30 PM  –  \nANIME EDITION \nAnime themed trivia and ramen bowl dinner special! ESM Accepted \nMust have base access.
URL:https://cannonforce.com/event/trivia-at-the-tsl-2-2/2026-07-23/
LOCATION:Tailgate Sports Lounge\, 108 Cunningham Ave Cannon AFB\, New Mexico 88103 United States
CATEGORIES:Food,Fun,Tailgate Sports Lounge
ATTACH;FMTTYPE=image/png:https://cannonforce.com/wp-content/uploads/2025/09/Web-Thumbnails-TSL-Trivia.png
END:VEVENT
BEGIN:VEVENT
DTSTART;TZID=America/Denver:20260827T170000
DTEND;TZID=America/Denver:20260827T193000
DTSTAMP:20260423T233341
CREATED:20260423T161020Z
LAST-MODIFIED:20260423T161020Z
UID:10003604-1787850000-1787859000@cannonforce.com
SUMMARY:Trivia at the TSL!
DESCRIPTION:Trivium Trivia at TSL | Thursday\, 5 PM – 7:30 PM  –  \nANIME EDITION \nAnime themed trivia and ramen bowl dinner special! ESM Accepted \nMust have base access.
URL:https://cannonforce.com/event/trivia-at-the-tsl-2-2/2026-08-27/
LOCATION:Tailgate Sports Lounge\, 108 Cunningham Ave Cannon AFB\, New Mexico 88103 United States
CATEGORIES:Food,Fun,Tailgate Sports Lounge
ATTACH;FMTTYPE=image/png:https://cannonforce.com/wp-content/uploads/2025/09/Web-Thumbnails-TSL-Trivia.png
END:VEVENT
BEGIN:VEVENT
DTSTART;TZID=America/Denver:20260924T170000
DTEND;TZID=America/Denver:20260924T193000
DTSTAMP:20260423T233341
CREATED:20260423T161020Z
LAST-MODIFIED:20260423T161020Z
UID:10003605-1790269200-1790278200@cannonforce.com
SUMMARY:Trivia at the TSL!
DESCRIPTION:Trivium Trivia at TSL | Thursday\, 5 PM – 7:30 PM  –  \nANIME EDITION \nAnime themed trivia and ramen bowl dinner special! ESM Accepted \nMust have base access.
URL:https://cannonforce.com/event/trivia-at-the-tsl-2-2/2026-09-24/
LOCATION:Tailgate Sports Lounge\, 108 Cunningham Ave Cannon AFB\, New Mexico 88103 United States
CATEGORIES:Food,Fun,Tailgate Sports Lounge
ATTACH;FMTTYPE=image/png:https://cannonforce.com/wp-content/uploads/2025/09/Web-Thumbnails-TSL-Trivia.png
END:VEVENT
BEGIN:VEVENT
DTSTART;TZID=America/Denver:20261022T170000
DTEND;TZID=America/Denver:20261022T193000
DTSTAMP:20260423T233341
CREATED:20260423T161020Z
LAST-MODIFIED:20260423T161020Z
UID:10003606-1792688400-1792697400@cannonforce.com
SUMMARY:Trivia at the TSL!
DESCRIPTION:Trivium Trivia at TSL | Thursday\, 5 PM – 7:30 PM  –  \nANIME EDITION \nAnime themed trivia and ramen bowl dinner special! ESM Accepted \nMust have base access.
URL:https://cannonforce.com/event/trivia-at-the-tsl-2-2/2026-10-22/
LOCATION:Tailgate Sports Lounge\, 108 Cunningham Ave Cannon AFB\, New Mexico 88103 United States
CATEGORIES:Food,Fun,Tailgate Sports Lounge
ATTACH;FMTTYPE=image/png:https://cannonforce.com/wp-content/uploads/2025/09/Web-Thumbnails-TSL-Trivia.png
END:VEVENT
BEGIN:VEVENT
DTSTART;TZID=America/Denver:20261126T170000
DTEND;TZID=America/Denver:20261126T193000
DTSTAMP:20260423T233341
CREATED:20260423T161020Z
LAST-MODIFIED:20260423T161020Z
UID:10003607-1795712400-1795721400@cannonforce.com
SUMMARY:Trivia at the TSL!
DESCRIPTION:Trivium Trivia at TSL | Thursday\, 5 PM – 7:30 PM  –  \nANIME EDITION \nAnime themed trivia and ramen bowl dinner special! ESM Accepted \nMust have base access.
URL:https://cannonforce.com/event/trivia-at-the-tsl-2-2/2026-11-26/
LOCATION:Tailgate Sports Lounge\, 108 Cunningham Ave Cannon AFB\, New Mexico 88103 United States
CATEGORIES:Food,Fun,Tailgate Sports Lounge
ATTACH;FMTTYPE=image/png:https://cannonforce.com/wp-content/uploads/2025/09/Web-Thumbnails-TSL-Trivia.png
END:VEVENT
BEGIN:VEVENT
DTSTART;TZID=America/Denver:20261224T170000
DTEND;TZID=America/Denver:20261224T193000
DTSTAMP:20260423T233341
CREATED:20260423T161020Z
LAST-MODIFIED:20260423T161020Z
UID:10003608-1798131600-1798140600@cannonforce.com
SUMMARY:Trivia at the TSL!
DESCRIPTION:Trivium Trivia at TSL | Thursday\, 5 PM – 7:30 PM  –  \nANIME EDITION \nAnime themed trivia and ramen bowl dinner special! ESM Accepted \nMust have base access.
URL:https://cannonforce.com/event/trivia-at-the-tsl-2-2/2026-12-24/
LOCATION:Tailgate Sports Lounge\, 108 Cunningham Ave Cannon AFB\, New Mexico 88103 United States
CATEGORIES:Food,Fun,Tailgate Sports Lounge
ATTACH;FMTTYPE=image/png:https://cannonforce.com/wp-content/uploads/2025/09/Web-Thumbnails-TSL-Trivia.png
END:VEVENT
BEGIN:VEVENT
DTSTART;TZID=America/Denver:20270128T170000
DTEND;TZID=America/Denver:20270128T193000
DTSTAMP:20260423T233341
CREATED:20260423T161020Z
LAST-MODIFIED:20260423T161020Z
UID:10003609-1801155600-1801164600@cannonforce.com
SUMMARY:Trivia at the TSL!
DESCRIPTION:Trivium Trivia at TSL | Thursday\, 5 PM – 7:30 PM  –  \nANIME EDITION \nAnime themed trivia and ramen bowl dinner special! ESM Accepted \nMust have base access.
URL:https://cannonforce.com/event/trivia-at-the-tsl-2-2/2027-01-28/
LOCATION:Tailgate Sports Lounge\, 108 Cunningham Ave Cannon AFB\, New Mexico 88103 United States
CATEGORIES:Food,Fun,Tailgate Sports Lounge
ATTACH;FMTTYPE=image/png:https://cannonforce.com/wp-content/uploads/2025/09/Web-Thumbnails-TSL-Trivia.png
END:VEVENT
BEGIN:VEVENT
DTSTART;TZID=America/Denver:20270225T170000
DTEND;TZID=America/Denver:20270225T193000
DTSTAMP:20260423T233341
CREATED:20260423T161020Z
LAST-MODIFIED:20260423T161020Z
UID:10003610-1803574800-1803583800@cannonforce.com
SUMMARY:Trivia at the TSL!
DESCRIPTION:Trivium Trivia at TSL | Thursday\, 5 PM – 7:30 PM  –  \nANIME EDITION \nAnime themed trivia and ramen bowl dinner special! ESM Accepted \nMust have base access.
URL:https://cannonforce.com/event/trivia-at-the-tsl-2-2/2027-02-25/
LOCATION:Tailgate Sports Lounge\, 108 Cunningham Ave Cannon AFB\, New Mexico 88103 United States
CATEGORIES:Food,Fun,Tailgate Sports Lounge
ATTACH;FMTTYPE=image/png:https://cannonforce.com/wp-content/uploads/2025/09/Web-Thumbnails-TSL-Trivia.png
END:VEVENT
BEGIN:VEVENT
DTSTART;TZID=America/Denver:20270325T170000
DTEND;TZID=America/Denver:20270325T193000
DTSTAMP:20260423T233341
CREATED:20260423T161020Z
LAST-MODIFIED:20260423T161020Z
UID:10003611-1805994000-1806003000@cannonforce.com
SUMMARY:Trivia at the TSL!
DESCRIPTION:Trivium Trivia at TSL | Thursday\, 5 PM – 7:30 PM  –  \nANIME EDITION \nAnime themed trivia and ramen bowl dinner special! ESM Accepted \nMust have base access.
URL:https://cannonforce.com/event/trivia-at-the-tsl-2-2/2027-03-25/
LOCATION:Tailgate Sports Lounge\, 108 Cunningham Ave Cannon AFB\, New Mexico 88103 United States
CATEGORIES:Food,Fun,Tailgate Sports Lounge
ATTACH;FMTTYPE=image/png:https://cannonforce.com/wp-content/uploads/2025/09/Web-Thumbnails-TSL-Trivia.png
END:VEVENT
BEGIN:VEVENT
DTSTART;TZID=America/Denver:20270422T170000
DTEND;TZID=America/Denver:20270422T193000
DTSTAMP:20260423T233341
CREATED:20260423T161020Z
LAST-MODIFIED:20260423T161020Z
UID:10003612-1808413200-1808422200@cannonforce.com
SUMMARY:Trivia at the TSL!
DESCRIPTION:Trivium Trivia at TSL | Thursday\, 5 PM – 7:30 PM  –  \nANIME EDITION \nAnime themed trivia and ramen bowl dinner special! ESM Accepted \nMust have base access.
URL:https://cannonforce.com/event/trivia-at-the-tsl-2-2/2027-04-22/
LOCATION:Tailgate Sports Lounge\, 108 Cunningham Ave Cannon AFB\, New Mexico 88103 United States
CATEGORIES:Food,Fun,Tailgate Sports Lounge
ATTACH;FMTTYPE=image/png:https://cannonforce.com/wp-content/uploads/2025/09/Web-Thumbnails-TSL-Trivia.png
END:VEVENT
END:VCALENDAR