BEGIN:VCALENDAR
VERSION:2.0
PRODID:-//Cannon AFB - ECPv6.15.20//NONSGML v1.0//EN
CALSCALE:GREGORIAN
METHOD:PUBLISH
X-ORIGINAL-URL:https://cannonforce.com
X-WR-CALDESC:Events for Cannon AFB
REFRESH-INTERVAL;VALUE=DURATION:PT1H
X-Robots-Tag:noindex
X-PUBLISHED-TTL:PT1H
BEGIN:VTIMEZONE
TZID:America/Denver
BEGIN:DAYLIGHT
TZOFFSETFROM:-0700
TZOFFSETTO:-0600
TZNAME:MDT
DTSTART:20250309T090000
END:DAYLIGHT
BEGIN:STANDARD
TZOFFSETFROM:-0600
TZOFFSETTO:-0700
TZNAME:MST
DTSTART:20251102T080000
END:STANDARD
BEGIN:DAYLIGHT
TZOFFSETFROM:-0700
TZOFFSETTO:-0600
TZNAME:MDT
DTSTART:20260308T090000
END:DAYLIGHT
BEGIN:STANDARD
TZOFFSETFROM:-0600
TZOFFSETTO:-0700
TZNAME:MST
DTSTART:20261101T080000
END:STANDARD
BEGIN:DAYLIGHT
TZOFFSETFROM:-0700
TZOFFSETTO:-0600
TZNAME:MDT
DTSTART:20270314T090000
END:DAYLIGHT
BEGIN:STANDARD
TZOFFSETFROM:-0600
TZOFFSETTO:-0700
TZNAME:MST
DTSTART:20271107T080000
END:STANDARD
END:VTIMEZONE
BEGIN:VTIMEZONE
TZID:UTC
BEGIN:STANDARD
TZOFFSETFROM:+0000
TZOFFSETTO:+0000
TZNAME:UTC
DTSTART:20250101T000000
END:STANDARD
END:VTIMEZONE
BEGIN:VEVENT
DTSTART;TZID=America/Denver:20260424T050000
DTEND;TZID=America/Denver:20260424T050000
DTSTAMP:20260424T024727
CREATED:20260225T152130Z
LAST-MODIFIED:20260225T152130Z
UID:10002833-1777006800-1777006800@cannonforce.com
SUMMARY:Boot Camp
DESCRIPTION:Subject to change. \nFollow Cannon AFB Fitness on FB for updates.
URL:https://cannonforce.com/event/boot-camp/2026-04-24/
LOCATION:Cannon Fitness Center\, 400 Air Commando Way\, Clovis\, NM\, 88101\, United States
ATTACH;FMTTYPE=image/png:https://cannonforce.com/wp-content/uploads/2026/02/Web-Thumbnails-boot-camp.png
END:VEVENT
BEGIN:VEVENT
DTSTART;TZID=America/Denver:20260424T113000
DTEND;TZID=America/Denver:20260424T113000
DTSTAMP:20260424T024727
CREATED:20260225T152234Z
LAST-MODIFIED:20260225T152234Z
UID:10003092-1777030200-1777030200@cannonforce.com
SUMMARY:Boot Camp
DESCRIPTION:Subject to change. \nFollow Cannon AFB Fitness on FB for updates.
URL:https://cannonforce.com/event/boot-camp-2/2026-04-24/
LOCATION:Cannon Fitness Center\, 400 Air Commando Way\, Clovis\, NM\, 88101\, United States
CATEGORIES:Fitness
ATTACH;FMTTYPE=image/png:https://cannonforce.com/wp-content/uploads/2026/02/Web-Thumbnails-boot-camp.png
END:VEVENT
BEGIN:VEVENT
DTSTART;TZID=America/Denver:20260424T170000
DTEND;TZID=America/Denver:20260424T170000
DTSTAMP:20260424T024727
CREATED:20260114T195102Z
LAST-MODIFIED:20260114T195102Z
UID:10002636-1777050000-1777050000@cannonforce.com
SUMMARY:Final Friday Family Bingo: Anime Bingo
DESCRIPTION:April 24   \nAre you a fan of Anime? This bingo is for YOU! \nFollow @CannonAFBCommunityCenter on Facebook for a sneak peek at the prizes you could win! \nCards Go On Sale upstairs in the Community Center at 5PM (Club Members: $25 | Non Club Members: $30) \nIT PAYS TO BE A MEMBER! Become one today! -> https://cannonforce.com/club-membership/ \nGame Starts at 6 PM
URL:https://cannonforce.com/event/final-friday-family-bingo-anime-bingo/
LOCATION:Tailgate Sports Lounge\, 108 Cunningham Ave Cannon AFB\, New Mexico 88103 United States
CATEGORIES:Family,Food,Fun,Hot Events
ATTACH;FMTTYPE=image/png:https://cannonforce.com/wp-content/uploads/2026/01/Web-Thumbnails-anime-bingo.png
END:VEVENT
BEGIN:VEVENT
DTSTART;TZID=America/Denver:20260424T200000
DTEND;TZID=America/Denver:20260424T230000
DTSTAMP:20260424T024727
CREATED:20241212T202055Z
LAST-MODIFIED:20241212T202055Z
UID:10001873-1777060800-1777071600@cannonforce.com
SUMMARY:Cosmic Bowling
DESCRIPTION:Get ready to light up the lanes at Cosmic Bowling! Grab your friends and join us at Cannon Lanes for a night of glowing strikes\, great vibes\, and endless fun. \nFriday & Saturday Nights\n8PM-11PM \n$15 per person All You Can Bowl\nShoe Rental Included
URL:https://cannonforce.com/event/cosmic-bowling/2026-04-24/
LOCATION:Cannon Lanes\, 108 Albright Ave\, Clovis\, NM\, 88101\, United States
CATEGORIES:Bowling,Family,Food,Fun
ATTACH;FMTTYPE=image/png:https://cannonforce.com/wp-content/uploads/2024/12/Web-Thumbnails-CL-Cosmic-Bowling.png
END:VEVENT
BEGIN:VEVENT
DTSTART;TZID=America/Denver:20260425T100000
DTEND;TZID=America/Denver:20260425T140000
DTSTAMP:20260424T024727
CREATED:20260310T154638Z
LAST-MODIFIED:20260310T154638Z
UID:10003530-1777111200-1777125600@cannonforce.com
SUMMARY:Month of the Military Child Bash
DESCRIPTION:April 25\, 10 AM – 2 PM – \nCannon Youth Programs is throwing a special celebration to honor our incredible military children! Bring the whole family and enjoy a day packed with fun\, including exciting carnival games\, awesome prizes\, delicious snacks\, and Williams Livestock Ranch petting zoo. \n  \nThis event is free and open to everyone with base access.
URL:https://cannonforce.com/event/month-of-the-military-child-bash/
LOCATION:Cannon Youth Center\, 102 Eagle Claw Blvd Cannon AFB\, New Mexico 88103 United States
CATEGORIES:Family,Food,Fun,Hot Events
ATTACH;FMTTYPE=image/png:https://cannonforce.com/wp-content/uploads/2026/03/Web-Thumbnails-motmc-bash.png
END:VEVENT
BEGIN:VEVENT
DTSTART;TZID=America/Denver:20260425T130000
DTEND;TZID=America/Denver:20260425T130000
DTSTAMP:20260424T024727
CREATED:20260114T193452Z
LAST-MODIFIED:20260114T193452Z
UID:10002635-1777122000-1777122000@cannonforce.com
SUMMARY:Plant & Seed Swap
DESCRIPTION:Apr 25 from 1 PM \nJoin us at the library for a plant and seed swap where gardeners and houseplant enthusiasts can exchange their favorite varieties and gardening tips\, fostering community connections and greener thumbs! Bring your surplus plants and seeds to share while discovering new treasures for your garden.
URL:https://cannonforce.com/event/plant-seed-swap/
LOCATION:Cannon Library\, 107 Albright Ave
CATEGORIES:Family,Library
ATTACH;FMTTYPE=image/png:https://cannonforce.com/wp-content/uploads/2026/01/Web-Thumbnails-plant-seed.png
END:VEVENT
BEGIN:VEVENT
DTSTART;TZID=America/Denver:20260425T200000
DTEND;TZID=America/Denver:20260425T230000
DTSTAMP:20260424T024727
CREATED:20241212T202138Z
LAST-MODIFIED:20241212T202138Z
UID:10001874-1777147200-1777158000@cannonforce.com
SUMMARY:Cosmic Bowling
DESCRIPTION:Get ready to light up the lanes at Cosmic Bowling! Grab your friends and join us at Cannon Lanes for a night of glowing strikes\, great vibes\, and endless fun. \nFriday & Saturday Nights\n8PM-11PM \n$15 per person All You Can Bowl\nShoe Rental Included
URL:https://cannonforce.com/event/cosmic-bowling-2/2026-04-25/
LOCATION:Cannon Lanes\, 108 Albright Ave\, Clovis\, NM\, 88101\, United States
CATEGORIES:Bowling,Family,Food,Fun
ATTACH;FMTTYPE=image/png:https://cannonforce.com/wp-content/uploads/2024/12/Web-Thumbnails-CL-Cosmic-Bowling.png
END:VEVENT
BEGIN:VEVENT
DTSTART;TZID=UTC:20260426T120000
DTEND;TZID=UTC:20260426T200000
DTSTAMP:20260424T024727
CREATED:20241026T043122Z
LAST-MODIFIED:20241212T201419Z
UID:10001875-1777204800-1777233600@cannonforce.com
SUMMARY:Sunday Family Day
DESCRIPTION:$25/per lane (up to 6 players) \nBring the family down to Cannon Lanes for 2 hours of bowling fun! \nShoe rental included. Add a pizza and pitcher of soda for $15!
URL:https://cannonforce.com/event/sunday-family-day/2026-04-26/
LOCATION:Cannon Lanes\, 108 Albright Ave\, Clovis\, NM\, 88101\, United States
CATEGORIES:Bowling
ATTACH;FMTTYPE=image/jpeg:https://cannonforce.com/wp-content/uploads/2024/10/Web-Thumbnails-Sunday-familuy-day-.jpg
END:VEVENT
BEGIN:VEVENT
DTSTART;TZID=America/Denver:20260426T150000
DTEND;TZID=America/Denver:20260426T170000
DTSTAMP:20260424T024727
CREATED:20260113T172556Z
LAST-MODIFIED:20260311T150311Z
UID:10003567-1777215600-1777222800@cannonforce.com
SUMMARY:B.Y.O.Y. Bring Your Own Yarn
DESCRIPTION:Every Other Sunday\, 3 PM – 5 PM  \nWhether you love knitting or crocheting\, come meet fellow enthusiasts. Don’t forget to bring your own yarn (BYOY) and connect with others who share your passion! FREE and open to all.
URL:https://cannonforce.com/event/b-y-o-y-bring-your-own-yarn-2/2026-04-26/
LOCATION:Community Center\, 108 Cunningham Ave Cannon AFB\, New Mexico 88103 United States
CATEGORIES:Community Center,Fun
ATTACH;FMTTYPE=image/png:https://cannonforce.com/wp-content/uploads/2025/09/Web-Thumbnails-cc-byoy.png
END:VEVENT
BEGIN:VEVENT
DTSTART;TZID=America/Denver:20260427T050000
DTEND;TZID=America/Denver:20260427T050000
DTSTAMP:20260424T024727
CREATED:20260225T152130Z
LAST-MODIFIED:20260225T152130Z
UID:10002834-1777266000-1777266000@cannonforce.com
SUMMARY:Boot Camp
DESCRIPTION:Subject to change. \nFollow Cannon AFB Fitness on FB for updates.
URL:https://cannonforce.com/event/boot-camp/2026-04-27/
LOCATION:Cannon Fitness Center\, 400 Air Commando Way\, Clovis\, NM\, 88101\, United States
ATTACH;FMTTYPE=image/png:https://cannonforce.com/wp-content/uploads/2026/02/Web-Thumbnails-boot-camp.png
END:VEVENT
BEGIN:VEVENT
DTSTART;TZID=America/Denver:20260427T113000
DTEND;TZID=America/Denver:20260427T113000
DTSTAMP:20260424T024727
CREATED:20260225T152234Z
LAST-MODIFIED:20260225T152234Z
UID:10003093-1777289400-1777289400@cannonforce.com
SUMMARY:Boot Camp
DESCRIPTION:Subject to change. \nFollow Cannon AFB Fitness on FB for updates.
URL:https://cannonforce.com/event/boot-camp-2/2026-04-27/
LOCATION:Cannon Fitness Center\, 400 Air Commando Way\, Clovis\, NM\, 88101\, United States
CATEGORIES:Fitness
ATTACH;FMTTYPE=image/png:https://cannonforce.com/wp-content/uploads/2026/02/Web-Thumbnails-boot-camp.png
END:VEVENT
BEGIN:VEVENT
DTSTART;TZID=America/Denver:20260427T130000
DTEND;TZID=America/Denver:20260427T130000
DTSTAMP:20260424T024727
CREATED:20250929T160732Z
LAST-MODIFIED:20260204T194535Z
UID:10002629-1777294800-1777294800@cannonforce.com
SUMMARY:S.T.E.M. Class
DESCRIPTION:Join us at the library for an engaging STEM program! Each session dives into hands-on science\, technology\, engineering\, and math activities that spark curiosity and build problem-solving skills. From building simple machines to exploring chemical reactions and coding basics\, students will explore real-world STEM concepts in a fun\, interactive environment. All materials provided. Just bring your curiosity! \n  \nMust have base access.
URL:https://cannonforce.com/event/s-t-e-m-class/2026-04-27/
LOCATION:Cannon Library\, 107 Albright Ave
CATEGORIES:Family,Fun,Library
ATTACH;FMTTYPE=image/png:https://cannonforce.com/wp-content/uploads/2025/09/Web-Thumbnails-LB-stem.png
END:VEVENT
BEGIN:VEVENT
DTSTART;TZID=America/Denver:20260427T170000
DTEND;TZID=America/Denver:20260427T170000
DTSTAMP:20260424T024727
CREATED:20260225T152345Z
LAST-MODIFIED:20260225T152345Z
UID:10003328-1777309200-1777309200@cannonforce.com
SUMMARY:Yoga
DESCRIPTION:Subject to change. \nFollow Cannon AFB Fitness on FB for updates.
URL:https://cannonforce.com/event/yoga/2026-04-27/
LOCATION:Cannon Fitness Center\, 400 Air Commando Way\, Clovis\, NM\, 88101\, United States
CATEGORIES:Fitness
ATTACH;FMTTYPE=image/png:https://cannonforce.com/wp-content/uploads/2026/02/Web-Thumbnails-yoga.png
END:VEVENT
BEGIN:VEVENT
DTSTART;TZID=America/Denver:20260428T050000
DTEND;TZID=America/Denver:20260428T050000
DTSTAMP:20260424T024727
CREATED:20260225T152130Z
LAST-MODIFIED:20260225T152130Z
UID:10002835-1777352400-1777352400@cannonforce.com
SUMMARY:Boot Camp
DESCRIPTION:Subject to change. \nFollow Cannon AFB Fitness on FB for updates.
URL:https://cannonforce.com/event/boot-camp/2026-04-28/
LOCATION:Cannon Fitness Center\, 400 Air Commando Way\, Clovis\, NM\, 88101\, United States
ATTACH;FMTTYPE=image/png:https://cannonforce.com/wp-content/uploads/2026/02/Web-Thumbnails-boot-camp.png
END:VEVENT
BEGIN:VEVENT
DTSTART;TZID=America/Denver:20260428T103000
DTEND;TZID=America/Denver:20260428T103000
DTSTAMP:20260424T024727
CREATED:20251204T203622Z
LAST-MODIFIED:20260204T195652Z
UID:10002355-1777372200-1777372200@cannonforce.com
SUMMARY:Lapsit Story Time
DESCRIPTION:Build your child’s literacy and social skills at the library with simple stories\, rhymes\, and songs that are age-appropriate and engaging for babies. Recommended for ages 0-2.
URL:https://cannonforce.com/event/lapsit-story-time/2026-04-28/
LOCATION:Cannon Library\, 107 Albright Ave
CATEGORIES:Family,Fun,Library
ATTACH;FMTTYPE=image/png:https://cannonforce.com/wp-content/uploads/2025/12/Web-Thumbnails-lapsit-storytime.png
END:VEVENT
BEGIN:VEVENT
DTSTART;TZID=America/Denver:20260428T113000
DTEND;TZID=America/Denver:20260428T113000
DTSTAMP:20260424T024727
CREATED:20260225T152234Z
LAST-MODIFIED:20260225T152234Z
UID:10003094-1777375800-1777375800@cannonforce.com
SUMMARY:Boot Camp
DESCRIPTION:Subject to change. \nFollow Cannon AFB Fitness on FB for updates.
URL:https://cannonforce.com/event/boot-camp-2/2026-04-28/
LOCATION:Cannon Fitness Center\, 400 Air Commando Way\, Clovis\, NM\, 88101\, United States
CATEGORIES:Fitness
ATTACH;FMTTYPE=image/png:https://cannonforce.com/wp-content/uploads/2026/02/Web-Thumbnails-boot-camp.png
END:VEVENT
BEGIN:VEVENT
DTSTART;TZID=America/Denver:20260428T170000
DTEND;TZID=America/Denver:20260428T170000
DTSTAMP:20260424T024727
CREATED:20260225T152513Z
LAST-MODIFIED:20260225T152513Z
UID:10003430-1777395600-1777395600@cannonforce.com
SUMMARY:Spin
DESCRIPTION:Subject to change. \nFollow Cannon AFB Fitness on FB for updates.
URL:https://cannonforce.com/event/spin/2026-04-28/
LOCATION:Cannon Fitness Center\, 400 Air Commando Way\, Clovis\, NM\, 88101\, United States
CATEGORIES:Fitness
ATTACH;FMTTYPE=image/png:https://cannonforce.com/wp-content/uploads/2026/02/Web-Thumbnails-spin-1.png
END:VEVENT
BEGIN:VEVENT
DTSTART;TZID=America/Denver:20260429T050000
DTEND;TZID=America/Denver:20260429T050000
DTSTAMP:20260424T024727
CREATED:20260225T152130Z
LAST-MODIFIED:20260225T152130Z
UID:10002836-1777438800-1777438800@cannonforce.com
SUMMARY:Boot Camp
DESCRIPTION:Subject to change. \nFollow Cannon AFB Fitness on FB for updates.
URL:https://cannonforce.com/event/boot-camp/2026-04-29/
LOCATION:Cannon Fitness Center\, 400 Air Commando Way\, Clovis\, NM\, 88101\, United States
ATTACH;FMTTYPE=image/png:https://cannonforce.com/wp-content/uploads/2026/02/Web-Thumbnails-boot-camp.png
END:VEVENT
BEGIN:VEVENT
DTSTART;TZID=America/Denver:20260429T100000
DTEND;TZID=America/Denver:20260429T100000
DTSTAMP:20260424T024727
CREATED:20251205T183528Z
LAST-MODIFIED:20260204T195610Z
UID:10002420-1777456800-1777456800@cannonforce.com
SUMMARY:Preschool Story Time
DESCRIPTION:Reading\, singing\, and crafting combine to fuel your child’s imagination while boosting literacy and social skills in a fun and welcoming environment. Recommended for ages 3-6.
URL:https://cannonforce.com/event/preschool-story-time/2026-04-29/
LOCATION:Cannon Library\, 107 Albright Ave
CATEGORIES:Family,Fun,Library
ATTACH;FMTTYPE=image/png:https://cannonforce.com/wp-content/uploads/2025/12/Web-Thumbnails-preschool-.png
END:VEVENT
BEGIN:VEVENT
DTSTART;TZID=America/Denver:20260429T113000
DTEND;TZID=America/Denver:20260429T113000
DTSTAMP:20260424T024727
CREATED:20260225T152234Z
LAST-MODIFIED:20260225T152234Z
UID:10003095-1777462200-1777462200@cannonforce.com
SUMMARY:Boot Camp
DESCRIPTION:Subject to change. \nFollow Cannon AFB Fitness on FB for updates.
URL:https://cannonforce.com/event/boot-camp-2/2026-04-29/
LOCATION:Cannon Fitness Center\, 400 Air Commando Way\, Clovis\, NM\, 88101\, United States
CATEGORIES:Fitness
ATTACH;FMTTYPE=image/png:https://cannonforce.com/wp-content/uploads/2026/02/Web-Thumbnails-boot-camp.png
END:VEVENT
BEGIN:VEVENT
DTSTART;TZID=America/Denver:20260429T150000
DTEND;TZID=America/Denver:20260429T210000
DTSTAMP:20260424T024727
CREATED:20260224T193944Z
LAST-MODIFIED:20260224T193944Z
UID:10002715-1777474800-1777496400@cannonforce.com
SUMMARY:Red Pin Wednesday
DESCRIPTION:Every Wednesday\, 3 PM – 9 PM  \nKeep an eye on the pins—two red pins will be randomly placed on each lane. If a red pin shows up as the headpin and you roll a strike\, let the front desk know and you will score a free game. Shoe rental is not included and remains $2. \nYou do not have to use your free game the same day you earn it. It can be redeemed any time we are open\, as long as it is used within that same month. \nEveryone is welcome to participate\, so come bowl\, get lucky\, and enjoy the fun.
URL:https://cannonforce.com/event/red-pin-wednesday-2/2026-04-29/
LOCATION:Cannon Lanes\, 108 Albright Ave\, Clovis\, NM\, 88101\, United States
CATEGORIES:Bowling,Fun
ATTACH;FMTTYPE=image/png:https://cannonforce.com/wp-content/uploads/2026/02/Web-Thumbnails-red-pin-wednesday.png
END:VEVENT
BEGIN:VEVENT
DTSTART;TZID=America/Denver:20260429T170000
DTEND;TZID=America/Denver:20260429T170000
DTSTAMP:20260424T024727
CREATED:20260225T152345Z
LAST-MODIFIED:20260225T152345Z
UID:10003329-1777482000-1777482000@cannonforce.com
SUMMARY:Yoga
DESCRIPTION:Subject to change. \nFollow Cannon AFB Fitness on FB for updates.
URL:https://cannonforce.com/event/yoga/2026-04-29/
LOCATION:Cannon Fitness Center\, 400 Air Commando Way\, Clovis\, NM\, 88101\, United States
CATEGORIES:Fitness
ATTACH;FMTTYPE=image/png:https://cannonforce.com/wp-content/uploads/2026/02/Web-Thumbnails-yoga.png
END:VEVENT
BEGIN:VEVENT
DTSTART;TZID=America/Denver:20260430T050000
DTEND;TZID=America/Denver:20260430T050000
DTSTAMP:20260424T024727
CREATED:20260225T152130Z
LAST-MODIFIED:20260225T152130Z
UID:10002837-1777525200-1777525200@cannonforce.com
SUMMARY:Boot Camp
DESCRIPTION:Subject to change. \nFollow Cannon AFB Fitness on FB for updates.
URL:https://cannonforce.com/event/boot-camp/2026-04-30/
LOCATION:Cannon Fitness Center\, 400 Air Commando Way\, Clovis\, NM\, 88101\, United States
ATTACH;FMTTYPE=image/png:https://cannonforce.com/wp-content/uploads/2026/02/Web-Thumbnails-boot-camp.png
END:VEVENT
BEGIN:VEVENT
DTSTART;TZID=America/Denver:20260430T080000
DTEND;TZID=America/Denver:20260430T160000
DTSTAMP:20260424T024727
CREATED:20260114T201014Z
LAST-MODIFIED:20260114T201014Z
UID:10002640-1777536000-1777564800@cannonforce.com
SUMMARY:TAP: Entrepreneurship Workshop
DESCRIPTION:April 30 & May 1\, 8 AM – 4 PM\n2-day workshop – Registration Required. Open to all base personnel! Learn how to start and grow a successful small business. This 2-Day Track is presented by the Veteran’s Business Outreach Center and the Small Business Center at Clovis Community College \nMust have base access.
URL:https://cannonforce.com/event/tap-entrepreneurship-workshop/2026-04-30/
CATEGORIES:M&FRC
ATTACH;FMTTYPE=image/png:https://cannonforce.com/wp-content/uploads/2026/01/Web-Thumbnails-tap.png
END:VEVENT
BEGIN:VEVENT
DTSTART;TZID=America/Denver:20260430T113000
DTEND;TZID=America/Denver:20260430T113000
DTSTAMP:20260424T024727
CREATED:20260225T152234Z
LAST-MODIFIED:20260225T152234Z
UID:10003096-1777548600-1777548600@cannonforce.com
SUMMARY:Boot Camp
DESCRIPTION:Subject to change. \nFollow Cannon AFB Fitness on FB for updates.
URL:https://cannonforce.com/event/boot-camp-2/2026-04-30/
LOCATION:Cannon Fitness Center\, 400 Air Commando Way\, Clovis\, NM\, 88101\, United States
CATEGORIES:Fitness
ATTACH;FMTTYPE=image/png:https://cannonforce.com/wp-content/uploads/2026/02/Web-Thumbnails-boot-camp.png
END:VEVENT
BEGIN:VEVENT
DTSTART;TZID=America/Denver:20260430T170000
DTEND;TZID=America/Denver:20260430T170000
DTSTAMP:20260424T024727
CREATED:20260225T152513Z
LAST-MODIFIED:20260225T152513Z
UID:10003431-1777568400-1777568400@cannonforce.com
SUMMARY:Spin
DESCRIPTION:Subject to change. \nFollow Cannon AFB Fitness on FB for updates.
URL:https://cannonforce.com/event/spin/2026-04-30/
LOCATION:Cannon Fitness Center\, 400 Air Commando Way\, Clovis\, NM\, 88101\, United States
CATEGORIES:Fitness
ATTACH;FMTTYPE=image/png:https://cannonforce.com/wp-content/uploads/2026/02/Web-Thumbnails-spin-1.png
END:VEVENT
END:VCALENDAR